BEGIN:VCALENDAR
VERSION:2.0
PRODID:-//hacksw/handcal//NONSGML v1.0//EN
BEGIN:VEVENT
DTSTAMP:20260422T170000Z
DTSTART:20260422T170000Z
DTEND:20260422T190000Z
SUMMARY:Stadtverband Schleswig - Einladung zum "Talk in die Bar 26"
END:VEVENT
BEGIN:VEVENT
DTSTAMP:20260504T130000Z
DTSTART:20260504T130000Z
DTEND:20260504T130000Z
SUMMARY:SeniorenUnion Schleswig u. Umgebung 
END:VEVENT
BEGIN:VEVENT
DTSTAMP:20260507T163000Z
DTSTART:20260507T163000Z
DTEND:20260507T163000Z
SUMMARY:BV Kappeln Jahreshauptversammlung 2026
END:VEVENT
BEGIN:VEVENT
DTSTAMP:20260507T170000Z
DTSTART:20260507T170000Z
DTEND:20260507T170000Z
SUMMARY:OV Glücksburg -Mitgliederversammlung
END:VEVENT
BEGIN:VEVENT
DTSTAMP:20260606T163000Z
DTSTART:20260606T163000Z
DTEND:20260606T163000Z
SUMMARY:Frauen Union Schleswig-Flensburg -Stammtisch
END:VEVENT
BEGIN:VEVENT
DTSTAMP:20260611T070000Z
DTSTART:20260611T070000Z
DTEND:20260614T160000Z
SUMMARY:Senioren Union Wiesharde u. Umgebung -Fahrt ins Ammerland
END:VEVENT
END:VCALENDAR
