BEGIN:VCALENDAR
VERSION:2.0
PRODID:-//hacksw/handcal//NONSGML v1.0//EN
BEGIN:VEVENT
DTSTAMP:20260406T073000Z
DTSTART:20260406T073000Z
DTEND:20260406T073000Z
SUMMARY:OV Schuby-Lürschau -Osterfrühstück 2026
END:VEVENT
END:VCALENDAR
