BEGIN:VCALENDAR
VERSION:2.0
PRODID:-//hacksw/handcal//NONSGML v1.0//EN
BEGIN:VEVENT
DTSTAMP:20260202T140000Z
DTSTART:20260202T140000Z
DTEND:20260202T160000Z
SUMMARY:Senioren Union Schleswig u. Umgebung "Sandra Carstensen MdB zu Besuch"
END:VEVENT
END:VCALENDAR
