BEGIN:VCALENDAR
VERSION:2.0
PRODID:-//hacksw/handcal//NONSGML v1.0//EN
BEGIN:VEVENT
DTSTAMP:20250912T072000Z
DTSTART:20250912T072000Z
DTEND:20250915T072000Z
SUMMARY:SU Wiesharde und Umland Fahrt in die Uckermark
END:VEVENT
END:VCALENDAR
