BEGIN:VCALENDAR
VERSION:2.0
PRODID:-//hacksw/handcal//NONSGML v1.0//EN
BEGIN:VEVENT
DTSTAMP:20250704T150000Z
DTSTART:20250704T150000Z
DTEND:20250704T180000Z
SUMMARY:SU Wiesharde Sommerfest
END:VEVENT
END:VCALENDAR
