BEGIN:VCALENDAR
VERSION:2.0
PRODID:-//hacksw/handcal//NONSGML v1.0//EN
BEGIN:VEVENT
DTSTAMP:20250409T170000Z
DTSTART:20250409T170000Z
DTEND:20250409T190000Z
SUMMARY:BV Großenwiehe JHV
END:VEVENT
END:VCALENDAR
