BEGIN:VCALENDAR
VERSION:2.0
PRODID:-//hacksw/handcal//NONSGML v1.0//EN
BEGIN:VEVENT
DTSTAMP:20250401T173000Z
DTSTART:20250401T173000Z
DTEND:20250401T193000Z
SUMMARY:OV Bollingstedt-Gammellund
END:VEVENT
END:VCALENDAR
