BEGIN:VCALENDAR
VERSION:2.0
PRODID:-//hacksw/handcal//NONSGML v1.0//EN
BEGIN:VEVENT
DTSTAMP:20250327T190000Z
DTSTART:20250327T190000Z
DTEND:20250327T210000Z
SUMMARY:OV Wohlde Mitgliederversammlung
END:VEVENT
END:VCALENDAR
