BEGIN:VCALENDAR
VERSION:2.0
PRODID:-//hacksw/handcal//NONSGML v1.0//EN
BEGIN:VEVENT
DTSTAMP:20250320T180000Z
DTSTART:20250320T180000Z
DTEND:20250320T200000Z
SUMMARY:OV Kropp Hauptversammlung
END:VEVENT
END:VCALENDAR
