BEGIN:VCALENDAR
VERSION:2.0
PRODID:-//hacksw/handcal//NONSGML v1.0//EN
BEGIN:VEVENT
DTSTAMP:20250303T140000Z
DTSTART:20250303T140000Z
DTEND:20250303T160000Z
SUMMARY:Senioren Union Schleswig u. Umgebung - Vortrag mit Frau Uta Fölster
END:VEVENT
END:VCALENDAR
