BEGIN:VCALENDAR
VERSION:2.0
PRODID:-//hacksw/handcal//NONSGML v1.0//EN
BEGIN:VEVENT
DTSTAMP:20250306T180000Z
DTSTART:20250306T180000Z
DTEND:20250306T200000Z
SUMMARY:OV Eggebek Stammtisch
END:VEVENT
END:VCALENDAR
