BEGIN:VCALENDAR
VERSION:2.0
PRODID:-//hacksw/handcal//NONSGML v1.0//EN
BEGIN:VEVENT
DTSTAMP:20250221T170000Z
DTSTART:20250221T170000Z
DTEND:20250221T200000Z
SUMMARY:Ortsverband Harrislee - Einladung zum Biikebrennen 
END:VEVENT
END:VCALENDAR
