BEGIN:VCALENDAR
VERSION:2.0
PRODID:-//hacksw/handcal//NONSGML v1.0//EN
BEGIN:VEVENT
DTSTAMP:20250227T133000Z
DTSTART:20250227T133000Z
DTEND:20250227T160000Z
SUMMARY:Senioren Union Wiesharde - Einladung zum Bingo
END:VEVENT
END:VCALENDAR
