BEGIN:VCALENDAR
VERSION:2.0
PRODID:-//hacksw/handcal//NONSGML v1.0//EN
BEGIN:VEVENT
DTSTAMP:20250203T140000Z
DTSTART:20250203T140000Z
DTEND:20250203T160000Z
SUMMARY:SU Schleswig und Umland "Heimat"
END:VEVENT
END:VCALENDAR
