BEGIN:VCALENDAR
VERSION:2.0
PRODID:-//hacksw/handcal//NONSGML v1.0//EN
BEGIN:VEVENT
DTSTAMP:20250124T180000Z
DTSTART:20250124T180000Z
DTEND:20250124T200000Z
SUMMARY:Ortsverband Handewit "Mitgliederversammlung"
END:VEVENT
END:VCALENDAR
