BEGIN:VCALENDAR
VERSION:2.0
PRODID:-//hacksw/handcal//NONSGML v1.0//EN
BEGIN:VEVENT
DTSTAMP:20240920T160000Z
DTSTART:20240920T160000Z
DTEND:20240920T190000Z
SUMMARY:OV Langballig Grillfest
END:VEVENT
END:VCALENDAR
