BEGIN:VCALENDAR
VERSION:2.0
PRODID:-//hacksw/handcal//NONSGML v1.0//EN
BEGIN:VEVENT
DTSTAMP:20240720T090000Z
DTSTART:20240720T090000Z
DTEND:20240720T110000Z
SUMMARY:Ortsverband Harrislee "Müllsammeln mit Wahlkreisbegehung im Wahlkreis 2"
END:VEVENT
END:VCALENDAR
