BEGIN:VCALENDAR
VERSION:2.0
PRODID:-//hacksw/handcal//NONSGML v1.0//EN
BEGIN:VEVENT
DTSTAMP:20240228T180000Z
DTSTART:20240228T180000Z
DTEND:20240228T210000Z
SUMMARY:OV Fahrdorf JHV u. Essen vorab
END:VEVENT
END:VCALENDAR
