BEGIN:VCALENDAR
VERSION:2.0
PRODID:-//hacksw/handcal//NONSGML v1.0//EN
BEGIN:VEVENT
DTSTAMP:20240901T070000Z
DTSTART:20240901T070000Z
DTEND:20240905T140000Z
SUMMARY:Su Wiesharde u. Umgebung 5Tagesfahrt Spreewald
END:VEVENT
END:VCALENDAR
