BEGIN:VCALENDAR
VERSION:2.0
PRODID:-//hacksw/handcal//NONSGML v1.0//EN
BEGIN:VEVENT
DTSTAMP:20240125T183000Z
DTSTART:20240125T183000Z
DTEND:20240125T200000Z
SUMMARY:Amtsverband Geltinger Bucht, Mitgliederversammlung 
END:VEVENT
END:VCALENDAR
