BEGIN:VCALENDAR
VERSION:2.0
PRODID:-//hacksw/handcal//NONSGML v1.0//EN
BEGIN:VEVENT
DTSTAMP:20240124T180000Z
DTSTART:20240124T180000Z
DTEND:20240124T193000Z
SUMMARY:Ortsverbände Jerrishoe und Eggebek laden zum Grünkohl-Essen 
END:VEVENT
END:VCALENDAR
