BEGIN:VCALENDAR
VERSION:2.0
PRODID:-//hacksw/handcal//NONSGML v1.0//EN
BEGIN:VEVENT
DTSTAMP:20231117T140000Z
DTSTART:20231117T140000Z
DTEND:20231117T160000Z
SUMMARY:Stadtverband Schleswig "Baustellen im Brennpunkt" 17.11.2023
END:VEVENT
END:VCALENDAR
