BEGIN:VCALENDAR
VERSION:2.0
PRODID:-//hacksw/handcal//NONSGML v1.0//EN
BEGIN:VEVENT
DTSTAMP:20231013T173000Z
DTSTART:20231013T173000Z
DTEND:20231013T190000Z
SUMMARY:Ortsverband Borgwedel "Treffen"
END:VEVENT
END:VCALENDAR
