BEGIN:VCALENDAR
VERSION:2.0
PRODID:-//hacksw/handcal//NONSGML v1.0//EN
BEGIN:VEVENT
DTSTAMP:20230513T050000Z
DTSTART:20230513T050000Z
DTEND:20230513T090000Z
SUMMARY:OV Hollingstedt - knackfrische Brötchen mit einem Schnack
END:VEVENT
END:VCALENDAR
