BEGIN:VCALENDAR
VERSION:2.0
PRODID:-//hacksw/handcal//NONSGML v1.0//EN
BEGIN:VEVENT
DTSTAMP:20240121T083000Z
DTSTART:20240121T083000Z
DTEND:20240121T103000Z
SUMMARY:OV Bergenhusen Skatspiel
END:VEVENT
END:VCALENDAR
