BEGIN:VCALENDAR
VERSION:2.0
PRODID:-//hacksw/handcal//NONSGML v1.0//EN
BEGIN:VEVENT
DTSTAMP:20230413T170000Z
DTSTART:20230413T170000Z
DTEND:20230413T190000Z
SUMMARY:Bezirksverband Haddeby, politischer Abend mit Petra Nicolaisen MdB 
END:VEVENT
END:VCALENDAR
