BEGIN:VCALENDAR
VERSION:2.0
PRODID:-//hacksw/handcal//NONSGML v1.0//EN
BEGIN:VEVENT
DTSTAMP:20230330T170000Z
DTSTART:20230330T170000Z
DTEND:20230330T170000Z
SUMMARY:PV-Anlagen und Balkonkraftwerke für den Eingenverbrauch
END:VEVENT
END:VCALENDAR
