BEGIN:VCALENDAR
VERSION:2.0
PRODID:-//hacksw/handcal//NONSGML v1.0//EN
BEGIN:VEVENT
DTSTAMP:20230314T183000Z
DTSTART:20230314T183000Z
DTEND:20230314T200000Z
SUMMARY:Ortsverband Ringsberg Kandidatenaufstellung 
END:VEVENT
END:VCALENDAR
