BEGIN:VCALENDAR
VERSION:2.0
PRODID:-//hacksw/handcal//NONSGML v1.0//EN
BEGIN:VEVENT
DTSTAMP:20230307T190000Z
DTSTART:20230307T190000Z
DTEND:20230307T190000Z
SUMMARY:Ortsverband Stolk Mitgliederversammlung / Aufstellung Kommunalwahl
END:VEVENT
END:VCALENDAR
