BEGIN:VCALENDAR
VERSION:2.0
PRODID:-//hacksw/handcal//NONSGML v1.0//EN
BEGIN:VEVENT
DTSTAMP:20230223T180000Z
DTSTART:20230223T180000Z
DTEND:20230223T193000Z
SUMMARY:CDU Fraktion Dollerup zw.Aufstellung der Kandidaten für die Gemeindevertr. 
END:VEVENT
END:VCALENDAR
