BEGIN:VCALENDAR
VERSION:2.0
PRODID:-//hacksw/handcal//NONSGML v1.0//EN
BEGIN:VEVENT
DTSTAMP:20230126T170000Z
DTSTART:20230126T170000Z
DTEND:20230126T183000Z
SUMMARY:Senioren Union Bezirksverband Kappeln-Geltinger Bucht
END:VEVENT
END:VCALENDAR
