BEGIN:VCALENDAR
VERSION:2.0
PRODID:-//hacksw/handcal//NONSGML v1.0//EN
BEGIN:VEVENT
DTSTAMP:20230123T183000Z
DTSTART:20230123T183000Z
DTEND:20230123T200000Z
SUMMARY:Ortsverband Bollingstedt-Gammellund 23.01.2023
END:VEVENT
END:VCALENDAR
