BEGIN:VCALENDAR
VERSION:2.0
PRODID:-//hacksw/handcal//NONSGML v1.0//EN
BEGIN:VEVENT
DTSTAMP:20230109T190000Z
DTSTART:20230109T190000Z
DTEND:20230109T203000Z
SUMMARY:Amtsverband Arensharde
END:VEVENT
END:VCALENDAR
