BEGIN:VCALENDAR
VERSION:2.0
PRODID:-//hacksw/handcal//NONSGML v1.0//EN
BEGIN:VEVENT
DTSTAMP:20231004T150000Z
DTSTART:20231004T150000Z
DTEND:20231004T170000Z
LOCATION:Kreishaus, Deutschland
SUMMARY:Empfang zum Tag der Deutschen Einheit
END:VEVENT
END:VCALENDAR
