BEGIN:VCALENDAR
VERSION:2.0
PRODID:-//hacksw/handcal//NONSGML v1.0//EN
BEGIN:VEVENT
DTSTAMP:20221213T173000Z
DTSTART:20221213T173000Z
DTEND:20221213T190000Z
SUMMARY:OV Langballig Grünkohlessen
END:VEVENT
END:VCALENDAR
