BEGIN:VCALENDAR
VERSION:2.0
PRODID:-//hacksw/handcal//NONSGML v1.0//EN
BEGIN:VEVENT
DTSTAMP:20221201T173000Z
DTSTART:20221201T173000Z
DTEND:20221201T173000Z
SUMMARY:Senioren Union Nordangeln, gemeinsames Essen 
END:VEVENT
END:VCALENDAR
