BEGIN:VCALENDAR
VERSION:2.0
PRODID:-//hacksw/handcal//NONSGML v1.0//EN
BEGIN:VEVENT
DTSTAMP:20221118T140000Z
DTSTART:20221118T140000Z
DTEND:20221118T140000Z
SUMMARY:Buchvorstellung der Angeln-Saga 4 durch Wolfgang Börnsen
END:VEVENT
END:VCALENDAR
