BEGIN:VCALENDAR
VERSION:2.0
PRODID:-//hacksw/handcal//NONSGML v1.0//EN
BEGIN:VEVENT
DTSTAMP:20221130T183000Z
DTSTART:20221130T183000Z
DTEND:20221130T200000Z
SUMMARY:Amtsverband Südangeln
END:VEVENT
END:VCALENDAR
