BEGIN:VCALENDAR
VERSION:2.0
PRODID:-//hacksw/handcal//NONSGML v1.0//EN
BEGIN:VEVENT
DTSTAMP:20221025T180000Z
DTSTART:20221025T180000Z
DTEND:20221025T180000Z
SUMMARY:OV Fahrdorf
END:VEVENT
END:VCALENDAR
