BEGIN:VCALENDAR
VERSION:2.0
PRODID:-//hacksw/handcal//NONSGML v1.0//EN
BEGIN:VEVENT
DTSTAMP:20221104T140000Z
DTSTART:20221104T140000Z
DTEND:20221104T170000Z
SUMMARY:OV Husby-Maasbüll-Hürup
END:VEVENT
END:VCALENDAR
