BEGIN:VCALENDAR
VERSION:2.0
PRODID:-//hacksw/handcal//NONSGML v1.0//EN
BEGIN:VEVENT
DTSTAMP:20221007T170000Z
DTSTART:20221007T170000Z
DTEND:20221007T190000Z
SUMMARY:OV Bergenhusen, Grillevent
END:VEVENT
END:VCALENDAR
