BEGIN:VCALENDAR
VERSION:2.0
PRODID:-//hacksw/handcal//NONSGML v1.0//EN
BEGIN:VEVENT
DTSTAMP:20221008T080000Z
DTSTART:20221008T080000Z
DTEND:20221008T110000Z
SUMMARY:OV Handewitt, Radtour durch die Gemeinde
END:VEVENT
END:VCALENDAR
