BEGIN:VCALENDAR
VERSION:2.0
PRODID:-//hacksw/handcal//NONSGML v1.0//EN
BEGIN:VEVENT
DTSTAMP:20221006T130000Z
DTSTART:20221006T130000Z
DTEND:20221006T150000Z
SUMMARY:Senioren Union Nordangeln, Besuch Museum Haithabu
END:VEVENT
END:VCALENDAR
