BEGIN:VCALENDAR
VERSION:2.0
PRODID:-//hacksw/handcal//NONSGML v1.0//EN
BEGIN:VEVENT
DTSTAMP:20220922T123000Z
DTSTART:20220922T123000Z
DTEND:20220922T140000Z
SUMMARY:SU Kreis Schleswig-Flensburg
END:VEVENT
END:VCALENDAR
