BEGIN:VCALENDAR
VERSION:2.0
PRODID:-//hacksw/handcal//NONSGML v1.0//EN
BEGIN:VEVENT
DTSTAMP:20220707T120000Z
DTSTART:20220707T120000Z
DTEND:20220707T150000Z
SUMMARY:SU Kappel-Geltinger Bucht
END:VEVENT
END:VCALENDAR
