BEGIN:VCALENDAR
VERSION:2.0
PRODID:-//hacksw/handcal//NONSGML v1.0//EN
BEGIN:VEVENT
DTSTAMP:20220620T170000Z
DTSTART:20220620T170000Z
DTEND:20220620T183000Z
SUMMARY:JU Schleswig-Flensburg
END:VEVENT
END:VCALENDAR
