BEGIN:VCALENDAR
VERSION:2.0
PRODID:-//hacksw/handcal//NONSGML v1.0//EN
BEGIN:VEVENT
DTSTAMP:20220519T170000Z
DTSTART:20220519T170000Z
DTEND:20220519T183000Z
SUMMARY:OV Eggebek JHV mit Thomas Jepsen
END:VEVENT
END:VCALENDAR
