BEGIN:VCALENDAR
VERSION:2.0
PRODID:-//hacksw/handcal//NONSGML v1.0//EN
BEGIN:VEVENT
DTSTAMP:20220524T070000Z
DTSTART:20220524T070000Z
DTEND:20220524T160000Z
SUMMARY:SU Süderbrarup und Umgebung Tagesfahrt 
END:VEVENT
END:VCALENDAR
