BEGIN:VCALENDAR
VERSION:2.0
PRODID:-//hacksw/handcal//NONSGML v1.0//EN
BEGIN:VEVENT
DTSTAMP:20220423T080000Z
DTSTART:20220423T080000Z
DTEND:20220423T110000Z
SUMMARY:Infostand der CDU Schleswig im Stadtweg
END:VEVENT
END:VCALENDAR
