BEGIN:VCALENDAR
VERSION:2.0
PRODID:-//hacksw/handcal//NONSGML v1.0//EN
BEGIN:VEVENT
DTSTAMP:20220421T173000Z
DTSTART:20220421T173000Z
DTEND:20220421T190000Z
SUMMARY:OV Böklund Klönschnack
END:VEVENT
END:VCALENDAR
